Name | Last modified | Size | Description | |
---|---|---|---|---|
Parent Directory | - | |||
install-out.txt | 20-Oct-2022 02:23 | 1.0K | ||
install-summary.dcf | 20-Oct-2022 02:23 | 269 | ||
buildsrc-out.txt | 20-Oct-2022 02:23 | 848 | ||
buildsrc-summary.dcf | 20-Oct-2022 02:23 | 427 | ||
checksrc-out.txt | 20-Oct-2022 02:23 | 4.0K | ||
checksrc-summary.dcf | 20-Oct-2022 02:23 | 444 | ||
buildbin-out.txt | 20-Oct-2022 02:23 | 1.1K | ||
buildbin-summary.dcf | 20-Oct-2022 02:23 | 529 | ||