Index of /checkResults/3.15/bioc-LATEST/pareg/raw-results
Name
Last modified
Size
Description
Parent Directory
-
info.dcf
20-Oct-2022 02:23
286
merida1/
20-Oct-2022 02:23
-
nebbiolo1/
20-Oct-2022 02:20
-
palomino3/
20-Oct-2022 02:21
-