Name | Last modified | Size | Description | |
---|---|---|---|---|
Parent Directory | - | |||
install-out.txt | 20-Oct-2022 02:20 | 964 | ||
install-summary.dcf | 20-Oct-2022 02:20 | 263 | ||
buildsrc-out.txt | 20-Oct-2022 02:20 | 880 | ||
buildsrc-summary.dcf | 20-Oct-2022 02:20 | 424 | ||
checksrc-out.txt | 20-Oct-2022 02:20 | 3.2K | ||
checksrc-summary.dcf | 20-Oct-2022 02:20 | 433 | ||