Name | Last modified | Size | Description | |
---|---|---|---|---|
Parent Directory | - | |||
checksrc-summary.dcf | 20-Oct-2022 02:20 | 426 | ||
checksrc-out.txt | 20-Oct-2022 02:20 | 19K | ||
buildsrc-summary.dcf | 20-Oct-2022 02:20 | 419 | ||
buildsrc-out.txt | 20-Oct-2022 02:20 | 1.1K | ||
install-summary.dcf | 20-Oct-2022 02:20 | 260 | ||
install-out.txt | 20-Oct-2022 02:20 | 15K | ||