Name | Last modified | Size | Description | |
---|---|---|---|---|
Parent Directory | - | |||
buildbin-out.txt | 18-Dec-2021 01:33 | 1.1K | ||
buildbin-summary.dcf | 18-Dec-2021 01:33 | 515 | ||
buildsrc-out.txt | 20-Oct-2022 02:23 | 647 | ||
buildsrc-summary.dcf | 20-Oct-2022 02:23 | 345 | ||
checksrc-out.txt | 18-Dec-2021 01:33 | 4.5K | ||
checksrc-summary.dcf | 18-Dec-2021 01:33 | 435 | ||
install-out.txt | 20-Oct-2022 02:23 | 1.0K | ||
install-summary.dcf | 20-Oct-2022 02:23 | 264 | ||