Name | Last modified | Size | Description | |
---|---|---|---|---|
Parent Directory | - | |||
buildsrc-out.txt | 20-Oct-2022 02:20 | 857 | ||
buildsrc-summary.dcf | 20-Oct-2022 02:20 | 424 | ||
checksrc-out.txt | 20-Oct-2022 02:20 | 3.2K | ||
checksrc-summary.dcf | 20-Oct-2022 02:20 | 434 | ||
install-out.txt | 20-Oct-2022 02:20 | 956 | ||
install-summary.dcf | 20-Oct-2022 02:20 | 264 | ||