Name | Last modified | Size | Description | |
---|---|---|---|---|
Parent Directory | - | |||
buildbin-out.txt | 19-Mar-2022 00:08 | 204K | ||
buildbin-summary.dcf | 19-Mar-2022 00:08 | 492 | ||
buildsrc-out.txt | 19-Mar-2022 00:08 | 1.0K | ||
buildsrc-summary.dcf | 19-Mar-2022 00:08 | 434 | ||
checksrc-out.txt | 19-Mar-2022 00:08 | 6.6K | ||
checksrc-summary.dcf | 19-Mar-2022 00:08 | 437 | ||
install-out.txt | 19-Mar-2022 00:08 | 204K | ||
install-summary.dcf | 19-Mar-2022 00:08 | 261 | ||