Name | Last modified | Size | Description | |
---|---|---|---|---|
Parent Directory | - | |||
install-out.txt | 19-Mar-2022 00:08 | 1.7K | ||
install-summary.dcf | 19-Mar-2022 00:08 | 265 | ||
buildsrc-out.txt | 19-Mar-2022 00:08 | 833 | ||
buildsrc-summary.dcf | 19-Mar-2022 00:08 | 447 | ||
checksrc-out.txt | 19-Mar-2022 00:08 | 3.2K | ||
checksrc-summary.dcf | 19-Mar-2022 00:08 | 441 | ||
buildbin-out.txt | 19-Mar-2022 00:08 | 1.5K | ||
buildbin-summary.dcf | 19-Mar-2022 00:08 | 506 | ||