Name | Last modified | Size | Description | |
---|---|---|---|---|
Parent Directory | - | |||
install-summary.dcf | 20-Oct-2022 02:23 | 272 | ||
install-out.txt | 20-Oct-2022 02:23 | 1.8K | ||
checksrc-summary.dcf | 20-Oct-2022 02:23 | 451 | ||
checksrc-out.txt | 20-Oct-2022 02:23 | 4.7K | ||
buildsrc-summary.dcf | 20-Oct-2022 02:23 | 433 | ||
buildsrc-out.txt | 20-Oct-2022 02:23 | 917 | ||
buildbin-summary.dcf | 20-Oct-2022 02:23 | 541 | ||
buildbin-out.txt | 20-Oct-2022 02:23 | 2.7K | ||