Name | Last modified | Size | Description | |
---|---|---|---|---|
Parent Directory | - | |||
install-summary.dcf | 20-Oct-2022 02:20 | 266 | ||
buildsrc-summary.dcf | 20-Oct-2022 02:20 | 427 | ||
checksrc-summary.dcf | 20-Oct-2022 02:20 | 438 | ||
buildsrc-out.txt | 20-Oct-2022 02:20 | 861 | ||
install-out.txt | 20-Oct-2022 02:20 | 959 | ||
checksrc-out.txt | 20-Oct-2022 02:20 | 3.4K | ||