Name | Last modified | Size | Description | |
---|---|---|---|---|
Parent Directory | - | |||
buildbin-out.txt | 20-Oct-2022 02:21 | 135K | ||
buildbin-summary.dcf | 20-Oct-2022 02:21 | 497 | ||
buildsrc-out.txt | 20-Oct-2022 02:21 | 856 | ||
buildsrc-summary.dcf | 20-Oct-2022 02:21 | 440 | ||
checksrc-out.txt | 20-Oct-2022 02:21 | 4.3K | ||
checksrc-summary.dcf | 20-Oct-2022 02:21 | 435 | ||
install-out.txt | 20-Oct-2022 02:21 | 135K | ||
install-summary.dcf | 20-Oct-2022 02:21 | 262 | ||