Index of /checkResults/3.15/bioc-LATEST/miaViz/raw-results/palomino3

[ICO]NameLast modifiedSizeDescription

[DIR]Parent Directory  -  
[TXT]buildbin-out.txt04-Aug-2022 02:21 1.1K 
[   ]buildbin-summary.dcf04-Aug-2022 02:21 506  
[TXT]buildsrc-out.txt04-Aug-2022 02:21 893  
[   ]buildsrc-summary.dcf04-Aug-2022 02:21 447  
[TXT]checksrc-out.txt04-Aug-2022 02:21 3.4K 
[   ]checksrc-summary.dcf04-Aug-2022 02:21 441  
[TXT]install-out.txt04-Aug-2022 02:21 959  
[   ]install-summary.dcf04-Aug-2022 02:21 265