Index of /checkResults/3.15/bioc-LATEST/mia/raw-results
Name
Last modified
Size
Description
Parent Directory
-
info.dcf
21-May-2022 01:08
272
merida1/
21-May-2022 01:08
-
nebbiolo1/
21-May-2022 01:05
-
palomino3/
21-May-2022 01:06
-
riesling1/
19-Mar-2022 00:08
-