Name | Last modified | Size | Description | |
---|---|---|---|---|
Parent Directory | - | |||
install-out.txt | 20-Oct-2022 02:21 | 4.3K | ||
install-summary.dcf | 20-Oct-2022 02:21 | 273 | ||
buildsrc-out.txt | 20-Oct-2022 02:21 | 922 | ||
buildsrc-summary.dcf | 20-Oct-2022 02:21 | 463 | ||
checksrc-summary.dcf | 20-Oct-2022 02:21 | 457 | ||
checksrc-out.txt | 20-Oct-2022 02:21 | 4.9K | ||
buildbin-out.txt | 20-Oct-2022 02:21 | 4.5K | ||
buildbin-summary.dcf | 20-Oct-2022 02:21 | 530 | ||