Name | Last modified | Size | Description | |
---|---|---|---|---|
Parent Directory | - | |||
buildbin-summary.dcf | 20-Oct-2022 02:23 | 545 | ||
buildbin-out.txt | 20-Oct-2022 02:23 | 5.1K | ||
checksrc-summary.dcf | 20-Oct-2022 02:23 | 454 | ||
checksrc-out.txt | 20-Oct-2022 02:23 | 4.4K | ||
buildsrc-summary.dcf | 20-Oct-2022 02:23 | 433 | ||
buildsrc-out.txt | 20-Oct-2022 02:23 | 897 | ||
install-summary.dcf | 20-Oct-2022 02:23 | 274 | ||
install-out.txt | 20-Oct-2022 02:23 | 4.2K | ||