![]() | Name | Last modified | Size | Description |
---|---|---|---|---|
![]() | Parent Directory | - | ||
![]() | install-summary.dcf | 19-Mar-2022 00:07 | 271 | |
![]() | install-out.txt | 19-Mar-2022 00:07 | 2.4K | |
![]() | checksrc-summary.dcf | 19-Mar-2022 00:07 | 451 | |
![]() | checksrc-out.txt | 19-Mar-2022 00:07 | 3.1K | |
![]() | buildsrc-summary.dcf | 19-Mar-2022 00:07 | 456 | |
![]() | buildsrc-out.txt | 19-Mar-2022 00:07 | 844 | |
![]() | buildbin-summary.dcf | 19-Mar-2022 00:07 | 521 | |
![]() | buildbin-out.txt | 19-Mar-2022 00:07 | 2.5K | |