![]() | Name | Last modified | Size | Description |
---|---|---|---|---|
![]() | Parent Directory | - | ||
![]() | checksrc-out.txt | 14-May-2022 01:46 | 3.1K | |
![]() | checksrc-summary.dcf | 14-May-2022 01:46 | 451 | |
![]() | buildbin-out.txt | 14-May-2022 01:46 | 1.5K | |
![]() | buildbin-summary.dcf | 14-May-2022 01:46 | 521 | |
![]() | install-out.txt | 20-Oct-2022 02:21 | 1.3K | |
![]() | install-summary.dcf | 20-Oct-2022 02:21 | 270 | |
![]() | buildsrc-out.txt | 20-Oct-2022 02:21 | 2.5K | |
![]() | buildsrc-summary.dcf | 20-Oct-2022 02:21 | 371 | |