![]() | Name | Last modified | Size | Description |
---|---|---|---|---|
![]() | Parent Directory | - | ||
![]() | buildsrc-out.txt | 20-Oct-2022 02:20 | 2.4K | |
![]() | buildsrc-summary.dcf | 20-Oct-2022 02:20 | 335 | |
![]() | checksrc-out.txt | 14-May-2022 01:45 | 3.1K | |
![]() | checksrc-summary.dcf | 14-May-2022 01:45 | 428 | |
![]() | install-out.txt | 20-Oct-2022 02:20 | 1.3K | |
![]() | install-summary.dcf | 20-Oct-2022 02:20 | 261 | |