Name | Last modified | Size | Description | |
---|---|---|---|---|
Parent Directory | - | |||
buildbin-out.txt | 14-May-2022 01:48 | 1.5K | ||
buildbin-summary.dcf | 14-May-2022 01:48 | 536 | ||
buildsrc-out.txt | 20-Oct-2022 02:23 | 2.4K | ||
buildsrc-summary.dcf | 20-Oct-2022 02:23 | 346 | ||
checksrc-out.txt | 14-May-2022 01:48 | 3.1K | ||
checksrc-summary.dcf | 14-May-2022 01:48 | 448 | ||
install-out.txt | 20-Oct-2022 02:23 | 1.3K | ||
install-summary.dcf | 20-Oct-2022 02:23 | 271 | ||