Name | Last modified | Size | Description | |
---|---|---|---|---|
Parent Directory | - | |||
buildbin-out.txt | 20-Oct-2022 02:21 | 2.8K | ||
buildbin-summary.dcf | 20-Oct-2022 02:21 | 525 | ||
buildsrc-out.txt | 20-Oct-2022 02:21 | 940 | ||
buildsrc-summary.dcf | 20-Oct-2022 02:21 | 459 | ||
checksrc-out.txt | 20-Oct-2022 02:21 | 4.3K | ||
checksrc-summary.dcf | 20-Oct-2022 02:21 | 459 | ||
install-out.txt | 20-Oct-2022 02:21 | 2.6K | ||
install-summary.dcf | 20-Oct-2022 02:21 | 271 | ||