Name | Last modified | Size | Description | |
---|---|---|---|---|
Parent Directory | - | |||
install-summary.dcf | 19-Mar-2022 00:07 | 297 | ||
install-out.txt | 19-Mar-2022 00:07 | 2.0K | ||
checksrc-summary.dcf | 19-Mar-2022 00:07 | 505 | ||
checksrc-out.txt | 19-Mar-2022 00:07 | 3.1K | ||
buildsrc-summary.dcf | 19-Mar-2022 00:07 | 510 | ||
buildsrc-out.txt | 19-Mar-2022 00:07 | 1.0K | ||
buildbin-summary.dcf | 19-Mar-2022 00:07 | 602 | ||
buildbin-out.txt | 19-Mar-2022 00:07 | 1.9K | ||