Name | Last modified | Size | Description | |
---|---|---|---|---|
Parent Directory | - | |||
install-summary.dcf | 20-Oct-2022 02:21 | 297 | ||
install-out.txt | 20-Oct-2022 02:21 | 1.0K | ||
checksrc-summary.dcf | 20-Oct-2022 02:21 | 505 | ||
checksrc-out.txt | 20-Oct-2022 02:21 | 3.1K | ||
buildsrc-summary.dcf | 20-Oct-2022 02:21 | 511 | ||
buildsrc-out.txt | 20-Oct-2022 02:21 | 1.0K | ||
buildbin-summary.dcf | 20-Oct-2022 02:21 | 602 | ||
buildbin-out.txt | 20-Oct-2022 02:21 | 1.2K | ||