Name | Last modified | Size | Description | |
---|---|---|---|---|
Parent Directory | - | |||
checksrc-summary.dcf | 20-Oct-2022 02:20 | 414 | ||
checksrc-out.txt | 20-Oct-2022 02:20 | 3.2K | ||
buildsrc-summary.dcf | 20-Oct-2022 02:20 | 408 | ||
buildsrc-out.txt | 20-Oct-2022 02:20 | 797 | ||
install-summary.dcf | 20-Oct-2022 02:20 | 254 | ||
install-out.txt | 20-Oct-2022 02:20 | 941 | ||