![]() | Name | Last modified | Size | Description |
---|---|---|---|---|
![]() | Parent Directory | - | ||
![]() | install-out.txt | 20-Oct-2022 02:20 | 1.0K | |
![]() | install-summary.dcf | 20-Oct-2022 02:20 | 257 | |
![]() | buildsrc-out.txt | 20-Oct-2022 02:20 | 802 | |
![]() | buildsrc-summary.dcf | 20-Oct-2022 02:20 | 414 | |
![]() | checksrc-out.txt | 20-Oct-2022 02:20 | 3.0K | |
![]() | checksrc-summary.dcf | 20-Oct-2022 02:20 | 420 | |