Name | Last modified | Size | Description | |
---|---|---|---|---|
Parent Directory | - | |||
buildbin-out.txt | 19-Mar-2022 00:07 | 2.3K | ||
buildbin-summary.dcf | 19-Mar-2022 00:07 | 503 | ||
checksrc-summary.dcf | 19-Mar-2022 00:07 | 439 | ||
checksrc-out.txt | 19-Mar-2022 00:07 | 4.2K | ||
buildsrc-summary.dcf | 19-Mar-2022 00:07 | 445 | ||
buildsrc-out.txt | 19-Mar-2022 00:07 | 866 | ||
install-summary.dcf | 19-Mar-2022 00:07 | 264 | ||
install-out.txt | 19-Mar-2022 00:07 | 2.6K | ||