Name | Last modified | Size | Description | |
---|---|---|---|---|
Parent Directory | - | |||
install-out.txt | 19-Mar-2022 00:07 | 1.4K | ||
install-summary.dcf | 19-Mar-2022 00:07 | 278 | ||
buildsrc-summary.dcf | 19-Mar-2022 00:07 | 472 | ||
buildsrc-out.txt | 19-Mar-2022 00:07 | 864 | ||
checksrc-out.txt | 19-Mar-2022 00:07 | 7.5K | ||
checksrc-summary.dcf | 19-Mar-2022 00:07 | 467 | ||
buildbin-out.txt | 19-Mar-2022 00:07 | 1.4K | ||
buildbin-summary.dcf | 19-Mar-2022 00:07 | 545 | ||