Index of /checkResults/3.15/bioc-LATEST/lmdme/raw-results/nebbiolo1

[ICO]NameLast modifiedSizeDescription

[DIR]Parent Directory  -  
[TXT]buildsrc-out.txt02-Jul-2022 01:05 798  
[   ]buildsrc-summary.dcf02-Jul-2022 01:05 410  
[TXT]checksrc-out.txt02-Jul-2022 01:05 7.3K 
[   ]checksrc-summary.dcf02-Jul-2022 01:05 421  
[TXT]install-out.txt02-Jul-2022 01:05 1.0K 
[   ]install-summary.dcf02-Jul-2022 01:05 254