Index of /checkResults/3.15/bioc-LATEST/lmdme/raw-results
Name
Last modified
Size
Description
Parent Directory
-
info.dcf
02-Jul-2022 01:08
270
merida1/
02-Jul-2022 01:08
-
nebbiolo1/
02-Jul-2022 01:05
-
palomino3/
02-Jul-2022 01:06
-
riesling1/
19-Mar-2022 00:07
-