Name | Last modified | Size | Description | |
---|---|---|---|---|
Parent Directory | - | |||
buildbin-out.txt | 20-Oct-2022 02:21 | 2.3K | ||
buildbin-summary.dcf | 20-Oct-2022 02:21 | 491 | ||
buildsrc-out.txt | 20-Oct-2022 02:21 | 851 | ||
buildsrc-summary.dcf | 20-Oct-2022 02:21 | 436 | ||
checksrc-out.txt | 20-Oct-2022 02:21 | 5.1K | ||
checksrc-summary.dcf | 20-Oct-2022 02:21 | 436 | ||
install-out.txt | 20-Oct-2022 02:21 | 2.2K | ||
install-summary.dcf | 20-Oct-2022 02:21 | 260 | ||