Name | Last modified | Size | Description | |
---|---|---|---|---|
Parent Directory | - | |||
install-out.txt | 19-Mar-2022 00:07 | 18K | ||
install-summary.dcf | 19-Mar-2022 00:07 | 267 | ||
buildsrc-out.txt | 19-Mar-2022 00:07 | 959 | ||
buildsrc-summary.dcf | 19-Mar-2022 00:07 | 449 | ||
checksrc-out.txt | 19-Mar-2022 00:07 | 4.4K | ||
checksrc-summary.dcf | 19-Mar-2022 00:07 | 443 | ||
buildbin-out.txt | 19-Mar-2022 00:07 | 18K | ||
buildbin-summary.dcf | 19-Mar-2022 00:07 | 510 | ||