Name | Last modified | Size | Description | |
---|---|---|---|---|
Parent Directory | - | |||
buildbin-out.txt | 20-Oct-2022 02:23 | 14K | ||
buildbin-summary.dcf | 20-Oct-2022 02:23 | 524 | ||
buildsrc-out.txt | 20-Oct-2022 02:23 | 905 | ||
buildsrc-summary.dcf | 20-Oct-2022 02:23 | 425 | ||
checksrc-out.txt | 20-Oct-2022 02:23 | 3.8K | ||
checksrc-summary.dcf | 20-Oct-2022 02:23 | 440 | ||
install-out.txt | 20-Oct-2022 02:23 | 13K | ||
install-summary.dcf | 20-Oct-2022 02:23 | 268 | ||