Index of /checkResults/3.15/bioc-LATEST/iteremoval/raw-results/palomino3
Name
Last modified
Size
Description
Parent Directory
-
buildsrc-out.txt
20-Oct-2022 02:21
1.0K
buildsrc-summary.dcf
20-Oct-2022 02:21
377
install-out.txt
20-Oct-2022 02:21
1.3K
install-summary.dcf
20-Oct-2022 02:21
274