Index of /checkResults/3.15/bioc-LATEST/illuminaio/raw-results/palomino3

[ICO]NameLast modifiedSizeDescription

[DIR]Parent Directory  -  
[TXT]buildbin-out.txt02-Jul-2022 01:06 2.0K 
[   ]buildbin-summary.dcf02-Jul-2022 01:06 533  
[TXT]buildsrc-out.txt02-Jul-2022 01:06 886  
[   ]buildsrc-summary.dcf02-Jul-2022 01:06 464  
[TXT]checksrc-out.txt02-Jul-2022 01:06 3.9K 
[   ]checksrc-summary.dcf02-Jul-2022 01:06 458  
[TXT]install-out.txt02-Jul-2022 01:06 1.9K 
[   ]install-summary.dcf02-Jul-2022 01:06 274