Index of /checkResults/3.15/bioc-LATEST/illuminaio/raw-results/merida1

[ICO]NameLast modifiedSizeDescription

[DIR]Parent Directory  -  
[TXT]buildbin-out.txt02-Jul-2022 01:08 2.9K 
[   ]buildbin-summary.dcf02-Jul-2022 01:08 547  
[TXT]buildsrc-out.txt02-Jul-2022 01:08 858  
[   ]buildsrc-summary.dcf02-Jul-2022 01:08 436  
[TXT]checksrc-out.txt02-Jul-2022 01:08 3.5K 
[   ]checksrc-summary.dcf02-Jul-2022 01:08 455  
[TXT]install-out.txt02-Jul-2022 01:08 2.0K 
[   ]install-summary.dcf02-Jul-2022 01:08 275