Name | Last modified | Size | Description | |
---|---|---|---|---|
Parent Directory | - | |||
install-summary.dcf | 20-Oct-2022 02:23 | 261 | ||
buildsrc-summary.dcf | 20-Oct-2022 02:23 | 415 | ||
checksrc-summary.dcf | 20-Oct-2022 02:23 | 427 | ||
buildbin-summary.dcf | 20-Oct-2022 02:23 | 505 | ||
buildsrc-out.txt | 20-Oct-2022 02:23 | 800 | ||
install-out.txt | 20-Oct-2022 02:23 | 960 | ||
buildbin-out.txt | 20-Oct-2022 02:23 | 1.1K | ||
checksrc-out.txt | 20-Oct-2022 02:23 | 3.7K | ||