Index of /checkResults/3.15/bioc-LATEST/iCARE/raw-results/palomino3

[ICO]NameLast modifiedSizeDescription

[DIR]Parent Directory  -  
[TXT]buildbin-out.txt02-Jul-2022 01:06 1.6K 
[   ]buildbin-summary.dcf02-Jul-2022 01:06 503  
[TXT]buildsrc-out.txt02-Jul-2022 01:06 861  
[   ]buildsrc-summary.dcf02-Jul-2022 01:06 444  
[TXT]checksrc-out.txt02-Jul-2022 01:06 4.3K 
[   ]checksrc-summary.dcf02-Jul-2022 01:06 445  
[TXT]install-out.txt02-Jul-2022 01:06 1.5K 
[   ]install-summary.dcf02-Jul-2022 01:06 264