Name | Last modified | Size | Description | |
---|---|---|---|---|
Parent Directory | - | |||
install-out.txt | 20-Oct-2022 02:23 | 1.6K | ||
install-summary.dcf | 20-Oct-2022 02:23 | 265 | ||
buildsrc-out.txt | 20-Oct-2022 02:23 | 838 | ||
buildsrc-summary.dcf | 20-Oct-2022 02:23 | 422 | ||
checksrc-out.txt | 20-Oct-2022 02:23 | 3.8K | ||
checksrc-summary.dcf | 20-Oct-2022 02:23 | 442 | ||
buildbin-out.txt | 20-Oct-2022 02:23 | 2.4K | ||
buildbin-summary.dcf | 20-Oct-2022 02:23 | 518 | ||