Index of /checkResults/3.15/bioc-LATEST/iCARE/raw-results/merida1

[ICO]NameLast modifiedSizeDescription

[DIR]Parent Directory  -  
[TXT]buildbin-out.txt02-Jul-2022 01:08 2.4K 
[   ]buildbin-summary.dcf02-Jul-2022 01:08 518  
[TXT]buildsrc-out.txt02-Jul-2022 01:08 838  
[   ]buildsrc-summary.dcf02-Jul-2022 01:08 422  
[TXT]checksrc-out.txt02-Jul-2022 01:08 3.8K 
[   ]checksrc-summary.dcf02-Jul-2022 01:08 442  
[TXT]install-out.txt02-Jul-2022 01:08 1.6K 
[   ]install-summary.dcf02-Jul-2022 01:08 265