Index of /checkResults/3.15/bioc-LATEST/hypergraph/raw-results/palomino3

[ICO]NameLast modifiedSizeDescription

[DIR]Parent Directory  -  
[   ]install-summary.dcf13-Aug-2022 02:21 274  
[TXT]install-out.txt13-Aug-2022 02:21 946  
[   ]checksrc-summary.dcf13-Aug-2022 02:21 458  
[TXT]checksrc-out.txt13-Aug-2022 02:21 2.7K 
[   ]buildsrc-summary.dcf13-Aug-2022 02:21 463  
[TXT]buildsrc-out.txt13-Aug-2022 02:21 780  
[   ]buildbin-summary.dcf13-Aug-2022 02:21 533  
[TXT]buildbin-out.txt13-Aug-2022 02:21 1.1K