Index of /checkResults/3.15/bioc-LATEST/hypergraph/raw-results/palomino3

[ICO]NameLast modifiedSizeDescription

[DIR]Parent Directory  -  
[TXT]buildbin-out.txt02-Jul-2022 01:06 1.1K 
[   ]buildbin-summary.dcf02-Jul-2022 01:06 533  
[TXT]buildsrc-out.txt02-Jul-2022 01:06 780  
[   ]buildsrc-summary.dcf02-Jul-2022 01:06 463  
[TXT]checksrc-out.txt02-Jul-2022 01:06 2.7K 
[   ]checksrc-summary.dcf02-Jul-2022 01:06 458  
[TXT]install-out.txt02-Jul-2022 01:06 946  
[   ]install-summary.dcf02-Jul-2022 01:06 274