![]() | Name | Last modified | Size | Description |
---|---|---|---|---|
![]() | Parent Directory | - | ||
![]() | buildsrc-out.txt | 02-Jul-2022 01:05 | 746 | |
![]() | buildsrc-summary.dcf | 02-Jul-2022 01:05 | 425 | |
![]() | checksrc-out.txt | 02-Jul-2022 01:05 | 2.7K | |
![]() | checksrc-summary.dcf | 02-Jul-2022 01:05 | 435 | |
![]() | install-out.txt | 02-Jul-2022 01:05 | 932 | |
![]() | install-summary.dcf | 02-Jul-2022 01:05 | 264 | |