Index of /checkResults/3.15/bioc-LATEST/hypergraph/raw-results/merida1

[ICO]NameLast modifiedSizeDescription

[DIR]Parent Directory  -  
[TXT]buildbin-out.txt02-Jul-2022 01:08 1.1K 
[   ]buildbin-summary.dcf02-Jul-2022 01:08 547  
[TXT]buildsrc-out.txt02-Jul-2022 01:08 756  
[   ]buildsrc-summary.dcf02-Jul-2022 01:08 435  
[TXT]checksrc-out.txt02-Jul-2022 01:08 2.7K 
[   ]checksrc-summary.dcf02-Jul-2022 01:08 455  
[TXT]install-out.txt02-Jul-2022 01:08 965  
[   ]install-summary.dcf02-Jul-2022 01:08 274