Index of /checkResults/3.15/bioc-LATEST/hiReadsProcessor/raw-results

[ICO]NameLast modifiedSizeDescription

[DIR]Parent Directory  -  
[   ]info.dcf11-Aug-2022 04:40 289  
[DIR]merida1/11-Aug-2022 04:40 -  
[DIR]nebbiolo1/11-Aug-2022 04:39 -