Name | Last modified | Size | Description | |
---|---|---|---|---|
Parent Directory | - | |||
install-summary.dcf | 19-Mar-2022 00:07 | 276 | ||
install-out.txt | 19-Mar-2022 00:07 | 2.3K | ||
checksrc-summary.dcf | 19-Mar-2022 00:07 | 463 | ||
checksrc-out.txt | 19-Mar-2022 00:07 | 5.5K | ||
buildsrc-summary.dcf | 19-Mar-2022 00:07 | 468 | ||
buildsrc-out.txt | 19-Mar-2022 00:07 | 919 | ||
buildbin-summary.dcf | 19-Mar-2022 00:07 | 539 | ||
buildbin-out.txt | 19-Mar-2022 00:07 | 2.3K | ||