Name | Last modified | Size | Description | |
---|---|---|---|---|
Parent Directory | - | |||
install-summary.dcf | 20-Oct-2022 02:23 | 269 | ||
install-out.txt | 20-Oct-2022 02:23 | 675 | ||
checksrc-summary.dcf | 19-Mar-2022 00:11 | 440 | ||
checksrc-out.txt | 19-Mar-2022 00:11 | 7.3K | ||
buildsrc-summary.dcf | 20-Oct-2022 02:23 | 340 | ||
buildsrc-out.txt | 20-Oct-2022 02:23 | 882 | ||
buildbin-summary.dcf | 19-Mar-2022 00:11 | 524 | ||
buildbin-out.txt | 19-Mar-2022 00:11 | 1.1K | ||