Index of /checkResults/3.15/bioc-LATEST/globaltest/raw-results/merida1

[ICO]NameLast modifiedSizeDescription

[DIR]Parent Directory  -  
[TXT]buildbin-out.txt11-Aug-2022 04:40 1.2K 
[   ]buildbin-summary.dcf11-Aug-2022 04:40 548  
[TXT]buildsrc-out.txt11-Aug-2022 04:40 828  
[   ]buildsrc-summary.dcf11-Aug-2022 04:40 437  
[TXT]checksrc-out.txt11-Aug-2022 04:40 2.9K 
[   ]checksrc-summary.dcf11-Aug-2022 04:40 456  
[TXT]install-out.txt11-Aug-2022 04:40 1.0K 
[   ]install-summary.dcf11-Aug-2022 04:40 275