Name | Last modified | Size | Description | |
---|---|---|---|---|
Parent Directory | - | |||
install-summary.dcf | 19-Mar-2022 00:07 | 267 | ||
install-out.txt | 19-Mar-2022 00:07 | 2.0K | ||
checksrc-summary.dcf | 19-Mar-2022 00:07 | 445 | ||
checksrc-out.txt | 19-Mar-2022 00:07 | 3.8K | ||
buildsrc-summary.dcf | 19-Mar-2022 00:07 | 450 | ||
buildsrc-out.txt | 19-Mar-2022 00:07 | 875 | ||
buildbin-summary.dcf | 19-Mar-2022 00:07 | 512 | ||
buildbin-out.txt | 19-Mar-2022 00:07 | 1.9K | ||