Name | Last modified | Size | Description | |
---|---|---|---|---|
Parent Directory | - | |||
buildbin-out.txt | 20-Oct-2022 02:23 | 3.0K | ||
buildbin-summary.dcf | 20-Oct-2022 02:23 | 554 | ||
buildsrc-out.txt | 20-Oct-2022 02:23 | 775 | ||
buildsrc-summary.dcf | 20-Oct-2022 02:23 | 438 | ||
checksrc-out.txt | 20-Oct-2022 02:23 | 7.5K | ||
checksrc-summary.dcf | 20-Oct-2022 02:23 | 467 | ||
install-out.txt | 20-Oct-2022 02:23 | 2.1K | ||
install-summary.dcf | 20-Oct-2022 02:23 | 277 | ||