Name | Last modified | Size | Description | |
---|---|---|---|---|
Parent Directory | - | |||
checksrc-out.txt | 20-Oct-2022 02:20 | 3.3K | ||
install-out.txt | 20-Oct-2022 02:20 | 1.0K | ||
buildsrc-out.txt | 20-Oct-2022 02:20 | 838 | ||
checksrc-summary.dcf | 20-Oct-2022 02:20 | 455 | ||
buildsrc-summary.dcf | 20-Oct-2022 02:20 | 441 | ||
install-summary.dcf | 20-Oct-2022 02:20 | 274 | ||