Name | Last modified | Size | Description | |
---|---|---|---|---|
Parent Directory | - | |||
install-summary.dcf | 20-Oct-2022 02:22 | 265 | ||
install-out.txt | 20-Oct-2022 02:22 | 2.0K | ||
buildsrc-out.txt | 20-Oct-2022 02:22 | 901 | ||
buildsrc-summary.dcf | 20-Oct-2022 02:22 | 421 | ||
checksrc-out.txt | 20-Oct-2022 02:22 | 4.2K | ||
checksrc-summary.dcf | 20-Oct-2022 02:22 | 436 | ||
buildbin-out.txt | 20-Oct-2022 02:22 | 2.8K | ||
buildbin-summary.dcf | 20-Oct-2022 02:22 | 518 | ||